BEGIN:VCALENDAR
VERSION:2.0
PRODID:-//Paul Parey Zeitschriftenverlag GmbH - ECPv6.0.12//NONSGML v1.0//EN
CALSCALE:GREGORIAN
METHOD:PUBLISH
X-WR-CALNAME:Paul Parey Zeitschriftenverlag GmbH
X-ORIGINAL-URL:https://www.paulparey.de
X-WR-CALDESC:Veranstaltungen für Paul Parey Zeitschriftenverlag GmbH
REFRESH-INTERVAL;VALUE=DURATION:PT1H
X-Robots-Tag:noindex
X-PUBLISHED-TTL:PT1H
BEGIN:VTIMEZONE
TZID:Europe/Berlin
BEGIN:DAYLIGHT
TZOFFSETFROM:+0100
TZOFFSETTO:+0200
TZNAME:CEST
DTSTART:20220327T010000
END:DAYLIGHT
BEGIN:STANDARD
TZOFFSETFROM:+0200
TZOFFSETTO:+0100
TZNAME:CET
DTSTART:20221030T010000
END:STANDARD
END:VTIMEZONE
BEGIN:VEVENT
DTSTART;VALUE=DATE:20220901
DTEND;VALUE=DATE:20220902
DTSTAMP:20260419T224900
CREATED:20220809T065804Z
LAST-MODIFIED:20220809T065804Z
UID:2962-1661990400-1662076799@www.paulparey.de
SUMMARY:WILD UND HUND 17/2022
DESCRIPTION:Heute ist die neue WILD UND HUND im Handel erhältlich! \nWILD UND HUND – seit 1894 das Jagdmagazin mit dem höchsten Anspruch an Information und Unterhaltung.\nJETZT regelmäßig mit Jagdfilmen auf PareyGo.\nHier geht es zum Abo! \nwww.wildundhund.de
URL:https://www.paulparey.de/termin/wild-und-hund-17-2022/
CATEGORIES:EVT
ATTACH;FMTTYPE=image/jpeg:https://www.paulparey.de/wp-content/uploads/2018/09/wuh-logo-default.jpg
END:VEVENT
BEGIN:VEVENT
DTSTART;VALUE=DATE:20220901
DTEND;VALUE=DATE:20220902
DTSTAMP:20260419T224900
CREATED:20220809T071348Z
LAST-MODIFIED:20220809T071348Z
UID:2979-1661990400-1662076799@www.paulparey.de
SUMMARY:RAUBFISCH 5/2022
DESCRIPTION:Der neue RAUBFISCH – ab jetzt im Handel!\n \nSeit zwei Jahrzehnten fühlen Autoren und Redaktion den Räubern auf die Zähne. DER RAUBFISCH geht damit unmittelbar auf die Wünsche der spezialisierten Freunde von Hecht\, Barsch\, Zander & Co. ein. Das Magazin mit Biss und Angelfilmen auf PareyGo präsentiert dazu die aktuellen Trends in diesem Bereich\, gibt fundierte Praxis- sowie Tourentipps in Worten\, Fotos und bewegten Bildern wieder. Umfangreiche Testberichte unterstützen den ambitionierten Raubfischangler bei der Gerätewahl. \nHier geht es zum Abo! \nwww.raubfisch.de
URL:https://www.paulparey.de/termin/raubfisch-5-2022/
CATEGORIES:EVT
ATTACH;FMTTYPE=image/jpeg:https://www.paulparey.de/wp-content/uploads/2018/09/raubfisch-evt.jpg
END:VEVENT
BEGIN:VEVENT
DTSTART;VALUE=DATE:20220914
DTEND;VALUE=DATE:20220915
DTSTAMP:20260419T224900
CREATED:20220809T065432Z
LAST-MODIFIED:20220809T065432Z
UID:2950-1663113600-1663199999@www.paulparey.de
SUMMARY:JAGEN WELTWEIT 5/2022
DESCRIPTION:Ab zum Kiosk: die neue JWW erscheint heute im Handel! \nGehen Sie mit uns auf Jagdreisen und träumen Sie von der großen weiten Welt der Auslandjagd! Mit JAGEN WELTWEIT kennt die Jagd keine Grenzen. Ob auf Gams in Österreich\, auf turmhohe Fasanen in England\, auf Elch in Kanada oder Büffel in Tansania: Jedes Land hat seine ganz besonderen jagdlichen Reize. JAGEN WELTWEIT berichtet exklusiv über die Jagd auf allen Kontinenten. Mit spannenden Reportagen\, packenden Berichten\, neu übersetzten Jagdklassikern und einem großen Ausrüstungsteil\, liefert JAGEN WELTWEIT Informationen und Unterhaltung in perfekter Kombination. Jetzt mit Jagdfilmen auf PareyGo! \nHolen Sie sich sechsmal im Jahr das Abenteuer direkt nach Hause. Dazu profitieren Sie von vielen Vorteilen\, die Sie nur als Abonnent genießen\, wie einer Preisersparnis gegenüber dem Einzelheftkauf\, kostenloser Zustellung\, Preisnachlässe auf ausgewählte Shopartikel und Sonderkonditionen bei Teilnahme an unseren Seminaren.
URL:https://www.paulparey.de/termin/jagen-weltweit-5-2022/
CATEGORIES:EVT
ATTACH;FMTTYPE=image/jpeg:https://www.paulparey.de/wp-content/uploads/2018/09/jww-evt.jpg
END:VEVENT
BEGIN:VEVENT
DTSTART;VALUE=DATE:20220914
DTEND;VALUE=DATE:20220915
DTSTAMP:20260419T224900
CREATED:20220809T071534Z
LAST-MODIFIED:20220809T071534Z
UID:2985-1663113600-1663199999@www.paulparey.de
SUMMARY:FISCH & FANG 10/2022
DESCRIPTION:Ab heute ist die neue FISCH & FANG Ausgabe im Handel erhältlich!\n \nFISCH & FANG. Deutschlands erstes Anglermagazin. Immer faszinierend\, lebendig und praxisnah. Jetzt mit Angelfilmen auf PareyGo! \nAuch im Abo erhältlich! \nwww.fischundfang.de
URL:https://www.paulparey.de/termin/fisch-fang-10-2022/
CATEGORIES:EVT
ATTACH;FMTTYPE=image/jpeg:https://www.paulparey.de/wp-content/uploads/2018/09/fufevt.jpg
END:VEVENT
BEGIN:VEVENT
DTSTART;VALUE=DATE:20220915
DTEND;VALUE=DATE:20220916
DTSTAMP:20260419T224900
CREATED:20220809T065833Z
LAST-MODIFIED:20220809T065833Z
UID:2964-1663200000-1663286399@www.paulparey.de
SUMMARY:WILD UND HUND 18/2022
DESCRIPTION:Heute ist die neue WILD UND HUND im Handel erhältlich! \nWILD UND HUND – seit 1894 das Jagdmagazin mit dem höchsten Anspruch an Information und Unterhaltung.\nJETZT regelmäßig mit Jagdfilmen auf PareyGo.\nHier geht es zum Abo! \nwww.wildundhund.de
URL:https://www.paulparey.de/termin/wild-und-hund-18-2022/
CATEGORIES:EVT
ATTACH;FMTTYPE=image/jpeg:https://www.paulparey.de/wp-content/uploads/2018/09/wuh-logo-default.jpg
END:VEVENT
BEGIN:VEVENT
DTSTART;VALUE=DATE:20220921
DTEND;VALUE=DATE:20220922
DTSTAMP:20260419T224900
CREATED:20220809T065552Z
LAST-MODIFIED:20220809T065552Z
UID:2954-1663718400-1663804799@www.paulparey.de
SUMMARY:DJZ 10/2022
DESCRIPTION:Ab heute ist die neue DEUTSCHE JAGDZEITUNG im Handel erhältlich!\nRegelmäßig bekommen unsere Abonnenten auch spannende Jagdfilme auf PareyGo. Ein guter Grund Abonnent zu werden!\nDie Deutsche Jagdzeitung schließt als erstes Jagdmagazin weltweit die Lücke zwischen Print und TV.\nPraxisstark\, innovativ\, emotional und immer nah am Leser. Ein frischer Mix aus Jagdpraxis\, Wildbiologie\, aktuellen Reportagen\, Berichten mit jagdlichen „Aufregern“ und dem berühmten Klavinius-Cartoon. Monat für Monat wirbelt das unkonventionellste deutsche Jagdmagazin grünen Staub auf. \nDie Deutsche Jagdzeitung mit DJZ-TV ist das rund-um-glücklich-Paket für den modernen Jäger. Online bietet die DJZ immer Aktuelles\, Filme\, das DJZ-Forum für Jäger und diverse Extras zum Heft: www.djz.de
URL:https://www.paulparey.de/termin/djz-10-2022/
CATEGORIES:EVT
ATTACH;FMTTYPE=image/jpeg:https://www.paulparey.de/wp-content/uploads/2018/09/djz-evt.jpg
END:VEVENT
END:VCALENDAR