BEGIN:VCALENDAR
VERSION:2.0
PRODID:-//Paul Parey Zeitschriftenverlag GmbH - ECPv6.0.12//NONSGML v1.0//EN
CALSCALE:GREGORIAN
METHOD:PUBLISH
X-ORIGINAL-URL:https://www.paulparey.de
X-WR-CALDESC:Veranstaltungen für Paul Parey Zeitschriftenverlag GmbH
REFRESH-INTERVAL;VALUE=DURATION:PT1H
X-Robots-Tag:noindex
X-PUBLISHED-TTL:PT1H
BEGIN:VTIMEZONE
TZID:Europe/Berlin
BEGIN:DAYLIGHT
TZOFFSETFROM:+0100
TZOFFSETTO:+0200
TZNAME:CEST
DTSTART:20210328T010000
END:DAYLIGHT
BEGIN:STANDARD
TZOFFSETFROM:+0200
TZOFFSETTO:+0100
TZNAME:CET
DTSTART:20211031T010000
END:STANDARD
END:VTIMEZONE
BEGIN:VEVENT
DTSTART;VALUE=DATE:20211216
DTEND;VALUE=DATE:20211217
DTSTAMP:20260420T132409
CREATED:20211214T135806Z
LAST-MODIFIED:20211214T135806Z
UID:2742-1639612800-1639699199@www.paulparey.de
SUMMARY:WILD UND HUND 24/2021
DESCRIPTION:Heute ist die neue WILD UND HUND im Handel erhältlich! \nWILD UND HUND – seit 1894 das Jagdmagazin mit dem höchsten Anspruch an Information und Unterhaltung.\nJETZT regelmäßig mit Jagdfilmen auf PareyGo.\nHier geht es zum Abo! \nwww.wildundhund.de
URL:https://www.paulparey.de/termin/wild-und-hund-24-2021/
CATEGORIES:EVT
ATTACH;FMTTYPE=image/jpeg:https://www.paulparey.de/wp-content/uploads/2018/09/wuh-logo-default.jpg
END:VEVENT
BEGIN:VEVENT
DTSTART;VALUE=DATE:20211222
DTEND;VALUE=DATE:20211223
DTSTAMP:20260420T132409
CREATED:20211214T133943Z
LAST-MODIFIED:20211214T133943Z
UID:2702-1640131200-1640217599@www.paulparey.de
SUMMARY:FISCH & FANG 01/2022
DESCRIPTION:Ab heute ist die neue FISCH & FANG Ausgabe im Handel erhältlich!\n \nFISCH & FANG. Deutschlands erstes Anglermagazin. Immer faszinierend\, lebendig und praxisnah. Jetzt mit Angelfilmen auf PareyGo! \nAuch im Abo erhältlich! \nwww.fischundfang.de
URL:https://www.paulparey.de/termin/fisch-fang-1-2022/
CATEGORIES:EVT
ATTACH;FMTTYPE=image/jpeg:https://www.paulparey.de/wp-content/uploads/2018/09/fufevt.jpg
END:VEVENT
BEGIN:VEVENT
DTSTART;VALUE=DATE:20211222
DTEND;VALUE=DATE:20211223
DTSTAMP:20260420T132409
CREATED:20211214T134845Z
LAST-MODIFIED:20211214T134845Z
UID:2718-1640131200-1640217599@www.paulparey.de
SUMMARY:DJZ 1/2022
DESCRIPTION:Ab heute ist die neue DEUTSCHE JAGDZEITUNG im Handel erhältlich!\nRegelmäßig bekommen unsere Abonnenten auch spannende Jagdfilme auf PareyGo. Ein guter Grund Abonnent zu werden!\nDie Deutsche Jagdzeitung schließt als erstes Jagdmagazin weltweit die Lücke zwischen Print und TV.\nPraxisstark\, innovativ\, emotional und immer nah am Leser. Ein frischer Mix aus Jagdpraxis\, Wildbiologie\, aktuellen Reportagen\, Berichten mit jagdlichen „Aufregern“ und dem berühmten Klavinius-Cartoon. Monat für Monat wirbelt das unkonventionellste deutsche Jagdmagazin grünen Staub auf. \nDie Deutsche Jagdzeitung mit DJZ-TV ist das rund-um-glücklich-Paket für den modernen Jäger. Online bietet die DJZ immer Aktuelles\, Filme\, das DJZ-Forum für Jäger und diverse Extras zum Heft: www.djz.de
URL:https://www.paulparey.de/termin/djz-1-2022/
CATEGORIES:EVT
ATTACH;FMTTYPE=image/jpeg:https://www.paulparey.de/wp-content/uploads/2018/09/djz-evt.jpg
END:VEVENT
END:VCALENDAR