BEGIN:VCALENDAR
VERSION:2.0
PRODID:-//Paul Parey Zeitschriftenverlag GmbH - ECPv6.0.12//NONSGML v1.0//EN
CALSCALE:GREGORIAN
METHOD:PUBLISH
X-ORIGINAL-URL:https://www.paulparey.de
X-WR-CALDESC:Veranstaltungen für Paul Parey Zeitschriftenverlag GmbH
REFRESH-INTERVAL;VALUE=DURATION:PT1H
X-Robots-Tag:noindex
X-PUBLISHED-TTL:PT1H
BEGIN:VTIMEZONE
TZID:Europe/Berlin
BEGIN:DAYLIGHT
TZOFFSETFROM:+0100
TZOFFSETTO:+0200
TZNAME:CEST
DTSTART:20210328T010000
END:DAYLIGHT
BEGIN:STANDARD
TZOFFSETFROM:+0200
TZOFFSETTO:+0100
TZNAME:CET
DTSTART:20211031T010000
END:STANDARD
END:VTIMEZONE
BEGIN:VEVENT
DTSTART;VALUE=DATE:20211104
DTEND;VALUE=DATE:20211105
DTSTAMP:20260420T151531
CREATED:20210118T084837Z
LAST-MODIFIED:20210118T084837Z
UID:2464-1635984000-1636070399@www.paulparey.de
SUMMARY:RAUBFISCH 6/2021
DESCRIPTION:Der neue RAUBFISCH – ab jetzt im Handel!\n \nSeit zwei Jahrzehnten fühlen Autoren und Redaktion den Räubern auf die Zähne. DER RAUBFISCH geht damit unmittelbar auf die Wünsche der spezialisierten Freunde von Hecht\, Barsch\, Zander & Co. ein. Das Magazin mit Biss und Angelfilmen auf PareyGo präsentiert dazu die aktuellen Trends in diesem Bereich\, gibt fundierte Praxis- sowie Tourentipps in Worten\, Fotos und bewegten Bildern wieder. Umfangreiche Testberichte unterstützen den ambitionierten Raubfischangler bei der Gerätewahl. \nHier geht es zum Abo! \nwww.raubfisch.de
URL:https://www.paulparey.de/termin/raubfisch-6-2021/
CATEGORIES:EVT
ATTACH;FMTTYPE=image/jpeg:https://www.paulparey.de/wp-content/uploads/2018/09/raubfisch-evt.jpg
END:VEVENT
BEGIN:VEVENT
DTSTART;VALUE=DATE:20211110
DTEND;VALUE=DATE:20211111
DTSTAMP:20260420T151531
CREATED:20210118T083158Z
LAST-MODIFIED:20210118T083158Z
UID:2425-1636502400-1636588799@www.paulparey.de
SUMMARY:JAGEN WELTWEIT 6/2021
DESCRIPTION:Ab zum Kiosk: die neue JWW erscheint heute im Handel! \nGehen Sie mit uns auf Jagdreisen und träumen Sie von der großen weiten Welt der Auslandjagd! Mit JAGEN WELTWEIT kennt die Jagd keine Grenzen. Ob auf Gams in Österreich\, auf turmhohe Fasanen in England\, auf Elch in Kanada oder Büffel in Tansania: Jedes Land hat seine ganz besonderen jagdlichen Reize. JAGEN WELTWEIT berichtet exklusiv über die Jagd auf allen Kontinenten. Mit spannenden Reportagen\, packenden Berichten\, neu übersetzten Jagdklassikern und einem großen Ausrüstungsteil\, liefert JAGEN WELTWEIT Informationen und Unterhaltung in perfekter Kombination. Jetzt mit Jagdfilmen auf PareyGo! \nHolen Sie sich sechsmal im Jahr das Abenteuer direkt nach Hause. Dazu profitieren Sie von vielen Vorteilen\, die Sie nur als Abonnent genießen\, wie einer Preisersparnis gegenüber dem Einzelheftkauf\, kostenloser Zustellung\, Preisnachlässe auf ausgewählte Shopartikel und Sonderkonditionen bei Teilnahme an unseren Seminaren.
URL:https://www.paulparey.de/termin/jagen-weltweit-6-2021/
CATEGORIES:EVT
ATTACH;FMTTYPE=image/jpeg:https://www.paulparey.de/wp-content/uploads/2018/09/jww-evt.jpg
END:VEVENT
BEGIN:VEVENT
DTSTART;VALUE=DATE:20211117
DTEND;VALUE=DATE:20211118
DTSTAMP:20260420T151531
CREATED:20210118T082622Z
LAST-MODIFIED:20210118T082622Z
UID:2413-1637107200-1637193599@www.paulparey.de
SUMMARY:DJZ 12/2021
DESCRIPTION:Ab heute ist die neue DEUTSCHE JAGDZEITUNG im Handel erhältlich!\nRegelmäßig bekommen unsere Abonnenten auch spannende Jagdfilme auf PareyGo. Ein guter Grund Abonnent zu werden!\nDie Deutsche Jagdzeitung schließt als erstes Jagdmagazin weltweit die Lücke zwischen Print und TV.\nPraxisstark\, innovativ\, emotional und immer nah am Leser. Ein frischer Mix aus Jagdpraxis\, Wildbiologie\, aktuellen Reportagen\, Berichten mit jagdlichen „Aufregern“ und dem berühmten Klavinius-Cartoon. Monat für Monat wirbelt das unkonventionellste deutsche Jagdmagazin grünen Staub auf. \nDie Deutsche Jagdzeitung mit DJZ-TV ist das rund-um-glücklich-Paket für den modernen Jäger. Online bietet die DJZ immer Aktuelles\, Filme\, das DJZ-Forum für Jäger und diverse Extras zum Heft: www.djz.de
URL:https://www.paulparey.de/termin/djz-12-2021/
CATEGORIES:EVT
ATTACH;FMTTYPE=image/jpeg:https://www.paulparey.de/wp-content/uploads/2018/09/djz-evt.jpg
END:VEVENT
BEGIN:VEVENT
DTSTART;VALUE=DATE:20211117
DTEND;VALUE=DATE:20211118
DTSTAMP:20260420T151531
CREATED:20210118T084544Z
LAST-MODIFIED:20210118T084544Z
UID:2454-1637107200-1637193599@www.paulparey.de
SUMMARY:FISCH & FANG 12/2021
DESCRIPTION:Ab heute ist die neue FISCH & FANG Ausgabe im Handel erhältlich!\n \nFISCH & FANG. Deutschlands erstes Anglermagazin. Immer faszinierend\, lebendig und praxisnah. Jetzt mit Angelfilmen auf PareyGo! \nAuch im Abo erhältlich! \nwww.fischundfang.de
URL:https://www.paulparey.de/termin/fisch-fang-12-2021/
CATEGORIES:EVT
ATTACH;FMTTYPE=image/jpeg:https://www.paulparey.de/wp-content/uploads/2018/09/fufevt.jpg
END:VEVENT
END:VCALENDAR