BEGIN:VCALENDAR
VERSION:2.0
PRODID:-//Paul Parey Zeitschriftenverlag GmbH - ECPv6.0.12//NONSGML v1.0//EN
CALSCALE:GREGORIAN
METHOD:PUBLISH
X-ORIGINAL-URL:https://www.paulparey.de
X-WR-CALDESC:Veranstaltungen für Paul Parey Zeitschriftenverlag GmbH
REFRESH-INTERVAL;VALUE=DURATION:PT1H
X-Robots-Tag:noindex
X-PUBLISHED-TTL:PT1H
BEGIN:VTIMEZONE
TZID:Europe/Berlin
BEGIN:DAYLIGHT
TZOFFSETFROM:+0100
TZOFFSETTO:+0200
TZNAME:CEST
DTSTART:20210328T010000
END:DAYLIGHT
BEGIN:STANDARD
TZOFFSETFROM:+0200
TZOFFSETTO:+0100
TZNAME:CET
DTSTART:20211031T010000
END:STANDARD
END:VTIMEZONE
BEGIN:VEVENT
DTSTART;VALUE=DATE:20210107
DTEND;VALUE=DATE:20210108
DTSTAMP:20260421T053333
CREATED:20191216T103021Z
LAST-MODIFIED:20191216T103021Z
UID:1960-1609977600-1610063999@www.paulparey.de
SUMMARY:WILDE HUNDE 1/2021
DESCRIPTION:Ab heute im Handel: die neue WILDE HUNDE!\n \nWILDE HUNDE – Das neue Jagdmagazin für den Jäger von morgen. Auch als Abo erhältlich!  \nwww.wildehunde.de
URL:https://www.paulparey.de/termin/wilde-hunde-1-2021/
CATEGORIES:EVT
ATTACH;FMTTYPE=image/jpeg:https://www.paulparey.de/wp-content/uploads/2018/09/wildehunde-evt.jpg
END:VEVENT
BEGIN:VEVENT
DTSTART;VALUE=DATE:20210107
DTEND;VALUE=DATE:20210108
DTSTAMP:20260421T053333
CREATED:20210111T154527Z
LAST-MODIFIED:20210111T154527Z
UID:2349-1609977600-1610063999@www.paulparey.de
SUMMARY:WILD UND HUND 01/2021
DESCRIPTION:Ab dem 02.01.2020 ist die WILD UND HUND 01/2021 im Handel erhältlich! \nWILD UND HUND – seit 1894 das Jagdmagazin mit dem höchsten Anspruch an Information und Unterhaltung.\nJETZT regelmäßig mit Jagdfilmen auf PareyGo.\nHier geht es zum Abo! \nwww.wildundhund.de
URL:https://www.paulparey.de/termin/wild-und-hund-01-2021/
CATEGORIES:EVT
ATTACH;FMTTYPE=image/jpeg:https://www.paulparey.de/wp-content/uploads/2018/09/wuh-logo-default.jpg
END:VEVENT
BEGIN:VEVENT
DTSTART;VALUE=DATE:20210120
DTEND;VALUE=DATE:20210121
DTSTAMP:20260421T053333
CREATED:20210118T082840Z
LAST-MODIFIED:20210118T082840Z
UID:2415-1611100800-1611187199@www.paulparey.de
SUMMARY:JAGEN WELTWEIT 1/2021
DESCRIPTION:Ab zum Kiosk: die neue JWW erscheint heute im Handel! \nGehen Sie mit uns auf Jagdreisen und träumen Sie von der großen weiten Welt der Auslandjagd! Mit JAGEN WELTWEIT kennt die Jagd keine Grenzen. Ob auf Gams in Österreich\, auf turmhohe Fasanen in England\, auf Elch in Kanada oder Büffel in Tansania: Jedes Land hat seine ganz besonderen jagdlichen Reize. JAGEN WELTWEIT berichtet exklusiv über die Jagd auf allen Kontinenten. Mit spannenden Reportagen\, packenden Berichten\, neu übersetzten Jagdklassikern und einem großen Ausrüstungsteil\, liefert JAGEN WELTWEIT Informationen und Unterhaltung in perfekter Kombination. Jetzt mit Jagdfilmen auf PareyGo! \nHolen Sie sich sechsmal im Jahr das Abenteuer direkt nach Hause. Dazu profitieren Sie von vielen Vorteilen\, die Sie nur als Abonnent genießen\, wie einer Preisersparnis gegenüber dem Einzelheftkauf\, kostenloser Zustellung\, Preisnachlässe auf ausgewählte Shopartikel und Sonderkonditionen bei Teilnahme an unseren Seminaren.
URL:https://www.paulparey.de/termin/jagen-weltweit-1-2021/
CATEGORIES:EVT
ATTACH;FMTTYPE=image/jpeg:https://www.paulparey.de/wp-content/uploads/2018/09/jww-evt.jpg
END:VEVENT
BEGIN:VEVENT
DTSTART;VALUE=DATE:20210120
DTEND;VALUE=DATE:20210121
DTSTAMP:20260421T053333
CREATED:20210118T083536Z
LAST-MODIFIED:20210118T083536Z
UID:2433-1611100800-1611187199@www.paulparey.de
SUMMARY:FISCH & FANG 02/2021
DESCRIPTION:Ab heute ist die neue FISCH & FANG Ausgabe im Handel erhältlich!\n \nFISCH & FANG. Deutschlands erstes Anglermagazin. Immer faszinierend\, lebendig und praxisnah. Jetzt mit Angelfilmen auf PareyGo! \nAuch im Abo erhältlich! \nwww.fischundfang.de
URL:https://www.paulparey.de/termin/fisch-fang-02-2021/
CATEGORIES:EVT
ATTACH;FMTTYPE=image/jpeg:https://www.paulparey.de/wp-content/uploads/2018/09/fufevt.jpg
END:VEVENT
BEGIN:VEVENT
DTSTART;VALUE=DATE:20210121
DTEND;VALUE=DATE:20210122
DTSTAMP:20260421T053333
CREATED:20210111T154607Z
LAST-MODIFIED:20210118T073206Z
UID:2351-1611187200-1611273599@www.paulparey.de
SUMMARY:WILD UND HUND 02/2021
DESCRIPTION:Ab dem 21.01.2021 ist die WILD UND HUND 02/2021 im Handel erhältlich! \nWILD UND HUND – seit 1894 das Jagdmagazin mit dem höchsten Anspruch an Information und Unterhaltung.\nJETZT regelmäßig mit Jagdfilmen auf PareyGo.\nHier geht es zum Abo! \nwww.wildundhund.de
URL:https://www.paulparey.de/termin/wild-und-hund-02-2021/
CATEGORIES:EVT
ATTACH;FMTTYPE=image/jpeg:https://www.paulparey.de/wp-content/uploads/2018/09/wuh-logo-default.jpg
END:VEVENT
BEGIN:VEVENT
DTSTART;VALUE=DATE:20210127
DTEND;VALUE=DATE:20210128
DTSTAMP:20260421T053333
CREATED:20210118T073746Z
LAST-MODIFIED:20210118T073802Z
UID:2392-1611705600-1611791999@www.paulparey.de
SUMMARY:DJZ 02/2021
DESCRIPTION:Ab heute ist die neue DEUTSCHE JAGDZEITUNG im Handel erhältlich!\nRegelmäßig bekommen unsere Abonnenten auch spannende Jagdfilme auf PareyGo. Ein guter Grund Abonnent zu werden!\nDie Deutsche Jagdzeitung schließt als erstes Jagdmagazin weltweit die Lücke zwischen Print und TV.\nPraxisstark\, innovativ\, emotional und immer nah am Leser. Ein frischer Mix aus Jagdpraxis\, Wildbiologie\, aktuellen Reportagen\, Berichten mit jagdlichen „Aufregern“ und dem berühmten Klavinius-Cartoon. Monat für Monat wirbelt das unkonventionellste deutsche Jagdmagazin grünen Staub auf. \nDie Deutsche Jagdzeitung mit DJZ-TV ist das rund-um-glücklich-Paket für den modernen Jäger. Online bietet die DJZ immer Aktuelles\, Filme\, das DJZ-Forum für Jäger und diverse Extras zum Heft: www.djz.de
URL:https://www.paulparey.de/termin/djz-02-2021/
CATEGORIES:EVT
ATTACH;FMTTYPE=image/jpeg:https://www.paulparey.de/wp-content/uploads/2018/09/djz-evt.jpg
END:VEVENT
END:VCALENDAR