BEGIN:VCALENDAR
VERSION:2.0
PRODID:-//Paul Parey Zeitschriftenverlag GmbH - ECPv6.0.12//NONSGML v1.0//EN
CALSCALE:GREGORIAN
METHOD:PUBLISH
X-WR-CALNAME:Paul Parey Zeitschriftenverlag GmbH
X-ORIGINAL-URL:https://www.paulparey.de
X-WR-CALDESC:Veranstaltungen für Paul Parey Zeitschriftenverlag GmbH
REFRESH-INTERVAL;VALUE=DURATION:PT1H
X-Robots-Tag:noindex
X-PUBLISHED-TTL:PT1H
BEGIN:VTIMEZONE
TZID:Europe/Berlin
BEGIN:DAYLIGHT
TZOFFSETFROM:+0100
TZOFFSETTO:+0200
TZNAME:CEST
DTSTART:20200329T010000
END:DAYLIGHT
BEGIN:STANDARD
TZOFFSETFROM:+0200
TZOFFSETTO:+0100
TZNAME:CET
DTSTART:20201025T010000
END:STANDARD
END:VTIMEZONE
BEGIN:VEVENT
DTSTART;VALUE=DATE:20201203
DTEND;VALUE=DATE:20201204
DTSTAMP:20260421T065926
CREATED:20191216T102555Z
LAST-MODIFIED:20191216T102555Z
UID:1946-1606953600-1607039999@www.paulparey.de
SUMMARY:WILD UND HUND 23/2020
DESCRIPTION:Ab dem 02.01.2020 ist die WILD UND HUND 23/2020 im Handel erhältlich! \nWILD UND HUND – seit 1894 das Jagdmagazin mit dem höchsten Anspruch an Information und Unterhaltung.\nJETZT regelmäßig mit Jagdfilmen auf PareyGo.\nHier geht es zum Abo! \nwww.wildundhund.de
URL:https://www.paulparey.de/termin/wild-und-hund-23-2020/
CATEGORIES:EVT
ATTACH;FMTTYPE=image/jpeg:https://www.paulparey.de/wp-content/uploads/2018/09/wuh-logo-default.jpg
END:VEVENT
BEGIN:VEVENT
DTSTART;VALUE=DATE:20201217
DTEND;VALUE=DATE:20201218
DTSTAMP:20260421T065926
CREATED:20191216T102622Z
LAST-MODIFIED:20191216T102622Z
UID:1948-1608163200-1608249599@www.paulparey.de
SUMMARY:WILD UND HUND 24/2020
DESCRIPTION:Ab dem 02.01.2020 ist die WILD UND HUND 24/2020 im Handel erhältlich! \nWILD UND HUND – seit 1894 das Jagdmagazin mit dem höchsten Anspruch an Information und Unterhaltung.\nJETZT regelmäßig mit Jagdfilmen auf PareyGo.\nHier geht es zum Abo! \nwww.wildundhund.de
URL:https://www.paulparey.de/termin/wild-und-hund-24-2020/
CATEGORIES:EVT
ATTACH;FMTTYPE=image/jpeg:https://www.paulparey.de/wp-content/uploads/2018/09/wuh-logo-default.jpg
END:VEVENT
END:VCALENDAR