BEGIN:VCALENDAR
VERSION:2.0
PRODID:-//Paul Parey Zeitschriftenverlag GmbH - ECPv6.0.12//NONSGML v1.0//EN
CALSCALE:GREGORIAN
METHOD:PUBLISH
X-WR-CALNAME:Paul Parey Zeitschriftenverlag GmbH
X-ORIGINAL-URL:https://www.paulparey.de
X-WR-CALDESC:Veranstaltungen für Paul Parey Zeitschriftenverlag GmbH
REFRESH-INTERVAL;VALUE=DURATION:PT1H
X-Robots-Tag:noindex
X-PUBLISHED-TTL:PT1H
BEGIN:VTIMEZONE
TZID:Europe/Berlin
BEGIN:DAYLIGHT
TZOFFSETFROM:+0100
TZOFFSETTO:+0200
TZNAME:CEST
DTSTART:20200329T010000
END:DAYLIGHT
BEGIN:STANDARD
TZOFFSETFROM:+0200
TZOFFSETTO:+0100
TZNAME:CET
DTSTART:20201025T010000
END:STANDARD
END:VTIMEZONE
BEGIN:VEVENT
DTSTART;VALUE=DATE:20201105
DTEND;VALUE=DATE:20201106
DTSTAMP:20260421T082508
CREATED:20191216T102457Z
LAST-MODIFIED:20191216T102457Z
UID:1942-1604534400-1604620799@www.paulparey.de
SUMMARY:WILD UND HUND 21/2020
DESCRIPTION:Ab dem 02.01.2020 ist die WILD UND HUND 21/2020 im Handel erhältlich! \nWILD UND HUND – seit 1894 das Jagdmagazin mit dem höchsten Anspruch an Information und Unterhaltung.\nJETZT regelmäßig mit Jagdfilmen auf PareyGo.\nHier geht es zum Abo! \nwww.wildundhund.de
URL:https://www.paulparey.de/termin/wild-und-hund-21-2020/
CATEGORIES:EVT
ATTACH;FMTTYPE=image/jpeg:https://www.paulparey.de/wp-content/uploads/2018/09/wuh-logo-default.jpg
END:VEVENT
BEGIN:VEVENT
DTSTART;VALUE=DATE:20201105
DTEND;VALUE=DATE:20201106
DTSTAMP:20260421T082508
CREATED:20191216T132256Z
LAST-MODIFIED:20191216T132256Z
UID:2038-1604534400-1604620799@www.paulparey.de
SUMMARY:RAUBFISCH 6/2020
DESCRIPTION:Der neue RAUBFISCH – ab jetzt im Handel!\n \nSeit zwei Jahrzehnten fühlen Autoren und Redaktion den Räubern auf die Zähne. DER RAUBFISCH geht damit unmittelbar auf die Wünsche der spezialisierten Freunde von Hecht\, Barsch\, Zander & Co. ein. Das Magazin mit Biss und Angelfilmen auf PareyGo präsentiert dazu die aktuellen Trends in diesem Bereich\, gibt fundierte Praxis- sowie Tourentipps in Worten\, Fotos und bewegten Bildern wieder. Umfangreiche Testberichte unterstützen den ambitionierten Raubfischangler bei der Gerätewahl. \nHier geht es zum Abo! \nwww.raubfisch.de
URL:https://www.paulparey.de/termin/raubfisch-6-2020/
CATEGORIES:EVT
ATTACH;FMTTYPE=image/jpeg:https://www.paulparey.de/wp-content/uploads/2018/09/raubfisch-evt.jpg
END:VEVENT
BEGIN:VEVENT
DTSTART;VALUE=DATE:20201118
DTEND;VALUE=DATE:20201119
DTSTAMP:20260421T082508
CREATED:20191216T111141Z
LAST-MODIFIED:20191216T111141Z
UID:1998-1605657600-1605743999@www.paulparey.de
SUMMARY:JAGEN WELTWEIT 6/2020
DESCRIPTION:Ab zum Kiosk: die neue JWW erscheint heute im Handel! \nGehen Sie mit uns auf Jagdreisen und träumen Sie von der großen weiten Welt der Auslandjagd! Mit JAGEN WELTWEIT kennt die Jagd keine Grenzen. Ob auf Gams in Österreich\, auf turmhohe Fasanen in England\, auf Elch in Kanada oder Büffel in Tansania: Jedes Land hat seine ganz besonderen jagdlichen Reize. JAGEN WELTWEIT berichtet exklusiv über die Jagd auf allen Kontinenten. Mit spannenden Reportagen\, packenden Berichten\, neu übersetzten Jagdklassikern und einem großen Ausrüstungsteil\, liefert JAGEN WELTWEIT Informationen und Unterhaltung in perfekter Kombination. Jetzt mit Jagdfilmen auf PareyGo! \nHolen Sie sich sechsmal im Jahr das Abenteuer direkt nach Hause. Dazu profitieren Sie von vielen Vorteilen\, die Sie nur als Abonnent genießen\, wie einer Preisersparnis gegenüber dem Einzelheftkauf\, kostenloser Zustellung\, Preisnachlässe auf ausgewählte Shopartikel und Sonderkonditionen bei Teilnahme an unseren Seminaren.
URL:https://www.paulparey.de/termin/jagen-weltweit-6-2020/
CATEGORIES:EVT
ATTACH;FMTTYPE=image/jpeg:https://www.paulparey.de/wp-content/uploads/2018/09/jww-evt.jpg
END:VEVENT
BEGIN:VEVENT
DTSTART;VALUE=DATE:20201118
DTEND;VALUE=DATE:20201119
DTSTAMP:20260421T082508
CREATED:20191216T130052Z
LAST-MODIFIED:20191216T130052Z
UID:2021-1605657600-1605743999@www.paulparey.de
SUMMARY:FISCH & FANG 12/2020
DESCRIPTION:Ab heute ist die neue FISCH & FANG Ausgabe im Handel erhältlich!\n \nFISCH & FANG. Deutschlands erstes Anglermagazin. Immer faszinierend\, lebendig und praxisnah. Jetzt mit Angelfilmen auf PareyGo! \nAuch im Abo erhältlich! \nwww.fischundfang.de
URL:https://www.paulparey.de/termin/fisch-fang-12-2020/
CATEGORIES:EVT
ATTACH;FMTTYPE=image/jpeg:https://www.paulparey.de/wp-content/uploads/2018/09/fufevt.jpg
END:VEVENT
BEGIN:VEVENT
DTSTART;VALUE=DATE:20201119
DTEND;VALUE=DATE:20201120
DTSTAMP:20260421T082508
CREATED:20191216T102526Z
LAST-MODIFIED:20191216T102526Z
UID:1944-1605744000-1605830399@www.paulparey.de
SUMMARY:WILD UND HUND 22/2020
DESCRIPTION:Ab dem 02.01.2020 ist die WILD UND HUND 22/2020 im Handel erhältlich! \nWILD UND HUND – seit 1894 das Jagdmagazin mit dem höchsten Anspruch an Information und Unterhaltung.\nJETZT regelmäßig mit Jagdfilmen auf PareyGo.\nHier geht es zum Abo! \nwww.wildundhund.de
URL:https://www.paulparey.de/termin/wild-und-hund-22-2020/
CATEGORIES:EVT
ATTACH;FMTTYPE=image/jpeg:https://www.paulparey.de/wp-content/uploads/2018/09/wuh-logo-default.jpg
END:VEVENT
BEGIN:VEVENT
DTSTART;VALUE=DATE:20201119
DTEND;VALUE=DATE:20201120
DTSTAMP:20260421T082508
CREATED:20191216T102750Z
LAST-MODIFIED:20191216T102750Z
UID:1952-1605744000-1605830399@www.paulparey.de
SUMMARY:WILD UND HUND Exklusiv Nr. 56
DESCRIPTION:Ab heute im Handel: das neue WILD UND HUND Exklusiv Sonderheft!\n \nSeit über 20 Jahren gibt die WILD UND HUND-Redaktion zu jagdlichen Spezialthemen zwei Mal im Jahr ein Sonderheft heraus. Dabei bestechen nicht nur die hohe Kompetenz\, die ausgewählten Autoren und Experten\, sondern auch die hochwertige Aufmachung der Exklusivhefte. Seit 2009 wird meist zu den Heften auch eine DVD produziert\, die den Nutzwert dieser Sammelhefte noch weiter erhöht. WILD UND HUND-Exklusiv ist ein Heft für Jäger\, die es wissen wollen und einen hohen Anspruch an ihre jagdliche Qualifikation haben. > Hier bestellen! \nAuch im Abo erhältlich! \nwildundhund.de/wild-und-hund-exklusiv
URL:https://www.paulparey.de/termin/wild-und-hund-exklusiv-nr-56/
CATEGORIES:EVT
ATTACH;FMTTYPE=image/jpeg:https://www.paulparey.de/wp-content/uploads/2018/09/exkl-evt.jpg
END:VEVENT
BEGIN:VEVENT
DTSTART;VALUE=DATE:20201125
DTEND;VALUE=DATE:20201126
DTSTAMP:20260421T082508
CREATED:20191216T103846Z
LAST-MODIFIED:20191216T103846Z
UID:1985-1606262400-1606348799@www.paulparey.de
SUMMARY:DJZ 12/2020
DESCRIPTION:Ab heute ist die neue DEUTSCHEN JAGDZEITUNG im Handel erhältlich!\nAbonnenten erhalten das Heft nicht nur günstiger und früher als alle anderen\, regelmäßig bekommen unsere treuen Leser auch spannende Jagdfilme auf PareyGo. Ein guter Grund Abonnent zu werden!\nDie Deutsche Jagdzeitung schließt als erstes Jagdmagazin weltweit die Lücke zwischen Print und TV.\nPraxisstark\, innovativ\, emotional und immer nah am Leser. Ein frischer Mix aus Jagdpraxis\, Wildbiologie\, aktuellen Reportagen\, Berichten mit jagdlichen „Aufregern“ und dem berühmten Klavinius-Cartoon. Monat für Monat wirbelt das unkonventionellste deutsche Jagdmagazin grünen Staub auf. \nDie Deutsche Jagdzeitung mit DJZ-TV ist das rund-um-glücklich-Paket für den modernen Jäger. Online bietet die DJZ immer Aktuelles\, Filme\, das DJZ-Forum für Jäger und diverse Extras zum Heft: www.djz.de
URL:https://www.paulparey.de/termin/djz-12-2020/
CATEGORIES:EVT
ATTACH;FMTTYPE=image/jpeg:https://www.paulparey.de/wp-content/uploads/2018/09/djz-evt.jpg
END:VEVENT
END:VCALENDAR