BEGIN:VCALENDAR
VERSION:2.0
PRODID:-//Paul Parey Zeitschriftenverlag GmbH - ECPv6.0.12//NONSGML v1.0//EN
CALSCALE:GREGORIAN
METHOD:PUBLISH
X-WR-CALNAME:Paul Parey Zeitschriftenverlag GmbH
X-ORIGINAL-URL:https://www.paulparey.de
X-WR-CALDESC:Veranstaltungen für Paul Parey Zeitschriftenverlag GmbH
REFRESH-INTERVAL;VALUE=DURATION:PT1H
X-Robots-Tag:noindex
X-PUBLISHED-TTL:PT1H
BEGIN:VTIMEZONE
TZID:Europe/Berlin
BEGIN:DAYLIGHT
TZOFFSETFROM:+0100
TZOFFSETTO:+0200
TZNAME:CEST
DTSTART:20210328T010000
END:DAYLIGHT
BEGIN:STANDARD
TZOFFSETFROM:+0200
TZOFFSETTO:+0100
TZNAME:CET
DTSTART:20211031T010000
END:STANDARD
END:VTIMEZONE
BEGIN:VEVENT
DTSTART;VALUE=DATE:20210902
DTEND;VALUE=DATE:20210903
DTSTAMP:20260420T210024
CREATED:20210118T084808Z
LAST-MODIFIED:20210118T084808Z
UID:2462-1630540800-1630627199@www.paulparey.de
SUMMARY:RAUBFISCH 5/2021
DESCRIPTION:Der neue RAUBFISCH – ab jetzt im Handel!\n \nSeit zwei Jahrzehnten fühlen Autoren und Redaktion den Räubern auf die Zähne. DER RAUBFISCH geht damit unmittelbar auf die Wünsche der spezialisierten Freunde von Hecht\, Barsch\, Zander & Co. ein. Das Magazin mit Biss und Angelfilmen auf PareyGo präsentiert dazu die aktuellen Trends in diesem Bereich\, gibt fundierte Praxis- sowie Tourentipps in Worten\, Fotos und bewegten Bildern wieder. Umfangreiche Testberichte unterstützen den ambitionierten Raubfischangler bei der Gerätewahl. \nHier geht es zum Abo! \nwww.raubfisch.de
URL:https://www.paulparey.de/termin/raubfisch-5-2021/
CATEGORIES:EVT
ATTACH;FMTTYPE=image/jpeg:https://www.paulparey.de/wp-content/uploads/2018/09/raubfisch-evt.jpg
END:VEVENT
END:VCALENDAR