BEGIN:VCALENDAR
VERSION:2.0
PRODID:-//Paul Parey Zeitschriftenverlag GmbH - ECPv6.0.12//NONSGML v1.0//EN
CALSCALE:GREGORIAN
METHOD:PUBLISH
X-WR-CALNAME:Paul Parey Zeitschriftenverlag GmbH
X-ORIGINAL-URL:https://www.paulparey.de
X-WR-CALDESC:Veranstaltungen für Paul Parey Zeitschriftenverlag GmbH
REFRESH-INTERVAL;VALUE=DURATION:PT1H
X-Robots-Tag:noindex
X-PUBLISHED-TTL:PT1H
BEGIN:VTIMEZONE
TZID:Europe/Berlin
BEGIN:DAYLIGHT
TZOFFSETFROM:+0100
TZOFFSETTO:+0200
TZNAME:CEST
DTSTART:20200329T010000
END:DAYLIGHT
BEGIN:STANDARD
TZOFFSETFROM:+0200
TZOFFSETTO:+0100
TZNAME:CET
DTSTART:20201025T010000
END:STANDARD
END:VTIMEZONE
BEGIN:VEVENT
DTSTART;VALUE=DATE:20201028
DTEND;VALUE=DATE:20201029
DTSTAMP:20260421T094413
CREATED:20191216T103817Z
LAST-MODIFIED:20191216T103817Z
UID:1983-1603843200-1603929599@www.paulparey.de
SUMMARY:DJZ 11/2020
DESCRIPTION:Ab heute ist die neue DEUTSCHEN JAGDZEITUNG im Handel erhältlich!\nAbonnenten erhalten das Heft nicht nur günstiger und früher als alle anderen\, regelmäßig bekommen unsere treuen Leser auch spannende Jagdfilme auf PareyGo. Ein guter Grund Abonnent zu werden!\nDie Deutsche Jagdzeitung schließt als erstes Jagdmagazin weltweit die Lücke zwischen Print und TV.\nPraxisstark\, innovativ\, emotional und immer nah am Leser. Ein frischer Mix aus Jagdpraxis\, Wildbiologie\, aktuellen Reportagen\, Berichten mit jagdlichen „Aufregern“ und dem berühmten Klavinius-Cartoon. Monat für Monat wirbelt das unkonventionellste deutsche Jagdmagazin grünen Staub auf. \nDie Deutsche Jagdzeitung mit DJZ-TV ist das rund-um-glücklich-Paket für den modernen Jäger. Online bietet die DJZ immer Aktuelles\, Filme\, das DJZ-Forum für Jäger und diverse Extras zum Heft: www.djz.de
URL:https://www.paulparey.de/termin/djz-11-2020/
CATEGORIES:EVT
ATTACH;FMTTYPE=image/jpeg:https://www.paulparey.de/wp-content/uploads/2018/09/djz-evt.jpg
END:VEVENT
END:VCALENDAR