BEGIN:VCALENDAR
VERSION:2.0
PRODID:-//Paul Parey Zeitschriftenverlag GmbH - ECPv6.0.12//NONSGML v1.0//EN
CALSCALE:GREGORIAN
METHOD:PUBLISH
X-ORIGINAL-URL:https://www.paulparey.de
X-WR-CALDESC:Veranstaltungen für Paul Parey Zeitschriftenverlag GmbH
REFRESH-INTERVAL;VALUE=DURATION:PT1H
X-Robots-Tag:noindex
X-PUBLISHED-TTL:PT1H
BEGIN:VTIMEZONE
TZID:Europe/Berlin
BEGIN:DAYLIGHT
TZOFFSETFROM:+0100
TZOFFSETTO:+0200
TZNAME:CEST
DTSTART:20200329T010000
END:DAYLIGHT
BEGIN:STANDARD
TZOFFSETFROM:+0200
TZOFFSETTO:+0100
TZNAME:CET
DTSTART:20201025T010000
END:STANDARD
END:VTIMEZONE
BEGIN:VEVENT
DTSTART;VALUE=DATE:20201021
DTEND;VALUE=DATE:20201022
DTSTAMP:20260421T111900
CREATED:20191216T130025Z
LAST-MODIFIED:20191216T130025Z
UID:2019-1603238400-1603324799@www.paulparey.de
SUMMARY:FISCH & FANG 11/2020
DESCRIPTION:Ab heute ist die neue FISCH & FANG Ausgabe im Handel erhältlich!\n \nFISCH & FANG. Deutschlands erstes Anglermagazin. Immer faszinierend\, lebendig und praxisnah. Jetzt mit Angelfilmen auf PareyGo! \nAuch im Abo erhältlich! \nwww.fischundfang.de
URL:https://www.paulparey.de/termin/fisch-fang-11-2020/
CATEGORIES:EVT
ATTACH;FMTTYPE=image/jpeg:https://www.paulparey.de/wp-content/uploads/2018/09/fufevt.jpg
END:VEVENT
BEGIN:VEVENT
DTSTART;VALUE=DATE:20201021
DTEND;VALUE=DATE:20201022
DTSTAMP:20260421T111900
CREATED:20191216T131306Z
LAST-MODIFIED:20191216T131306Z
UID:2025-1603238400-1603324799@www.paulparey.de
SUMMARY:FISCH & FANG NORWEGEN Nr. 16
DESCRIPTION:Ab heute ist die neue FISCH & FANG NORWEGEN Nr. 16 erhältlich!\n \nMehr als 200.000 deutsche Angler pilgern Jahr für Jahr ins Land der Fjorde. Mit „Norwegen – das Magazin für Angeln und Meer“ bieten wir allen Norwegenfans 2 x im Jahr einen bunten Mix an spannenden Themen rund um das beliebte Angelreiseziel. Schwerpunkte bilden Revier-Vorstellungen und fundierte Praxis-Berichte. Zudem stellen wir Geräteneuheiten vor und testen Rollen\, Ruten oder Köder. Wie es die Leser von FISCH & FANG gewohnt sind\, setzt das Magazin voll und ganz auf Qualität. Nicht zuletzt bieten wir mit jeder Ausgabe spannende Angelfilme mit faszinierenden Unterwasser- und Drohnenaufnahmen\, packenden Drillszenen oder Revieren zum Träumen. Jetzt auf dem neuen Videoportal PareyGo. Lehnen Sie sich zurück\, und lassen Sie sich durch die bewegten Bilder ins Land der Fjorde entführen. Hier bestellen! \nHier geht es zum Abo!  \nwww.fischundfang.de/norwegen
URL:https://www.paulparey.de/termin/fisch-fang-norwegen-nr-16/
CATEGORIES:EVT
ATTACH;FMTTYPE=image/jpeg:https://www.paulparey.de/wp-content/uploads/2018/09/norwegen-evt.jpg
END:VEVENT
END:VCALENDAR