BEGIN:VCALENDAR
VERSION:2.0
PRODID:-//Paul Parey Zeitschriftenverlag GmbH - ECPv6.0.12//NONSGML v1.0//EN
CALSCALE:GREGORIAN
METHOD:PUBLISH
X-WR-CALNAME:Paul Parey Zeitschriftenverlag GmbH
X-ORIGINAL-URL:https://www.paulparey.de
X-WR-CALDESC:Veranstaltungen für Paul Parey Zeitschriftenverlag GmbH
REFRESH-INTERVAL;VALUE=DURATION:PT1H
X-Robots-Tag:noindex
X-PUBLISHED-TTL:PT1H
BEGIN:VTIMEZONE
TZID:Europe/Berlin
BEGIN:DAYLIGHT
TZOFFSETFROM:+0100
TZOFFSETTO:+0200
TZNAME:CEST
DTSTART:20200329T010000
END:DAYLIGHT
BEGIN:STANDARD
TZOFFSETFROM:+0200
TZOFFSETTO:+0100
TZNAME:CET
DTSTART:20201025T010000
END:STANDARD
END:VTIMEZONE
BEGIN:VEVENT
DTSTART;VALUE=DATE:20200923
DTEND;VALUE=DATE:20200924
DTSTAMP:20260421T123438
CREATED:20191216T111107Z
LAST-MODIFIED:20191216T111107Z
UID:1996-1600819200-1600905599@www.paulparey.de
SUMMARY:JAGEN WELTWEIT 5/2020
DESCRIPTION:Ab zum Kiosk: die neue JWW erscheint heute im Handel! \nGehen Sie mit uns auf Jagdreisen und träumen Sie von der großen weiten Welt der Auslandjagd! Mit JAGEN WELTWEIT kennt die Jagd keine Grenzen. Ob auf Gams in Österreich\, auf turmhohe Fasanen in England\, auf Elch in Kanada oder Büffel in Tansania: Jedes Land hat seine ganz besonderen jagdlichen Reize. JAGEN WELTWEIT berichtet exklusiv über die Jagd auf allen Kontinenten. Mit spannenden Reportagen\, packenden Berichten\, neu übersetzten Jagdklassikern und einem großen Ausrüstungsteil\, liefert JAGEN WELTWEIT Informationen und Unterhaltung in perfekter Kombination. Jetzt mit Jagdfilmen auf PareyGo! \nHolen Sie sich sechsmal im Jahr das Abenteuer direkt nach Hause. Dazu profitieren Sie von vielen Vorteilen\, die Sie nur als Abonnent genießen\, wie einer Preisersparnis gegenüber dem Einzelheftkauf\, kostenloser Zustellung\, Preisnachlässe auf ausgewählte Shopartikel und Sonderkonditionen bei Teilnahme an unseren Seminaren.
URL:https://www.paulparey.de/termin/jagen-weltweit-5-2020/
CATEGORIES:EVT
ATTACH;FMTTYPE=image/jpeg:https://www.paulparey.de/wp-content/uploads/2018/09/jww-evt.jpg
END:VEVENT
BEGIN:VEVENT
DTSTART;VALUE=DATE:20200923
DTEND;VALUE=DATE:20200924
DTSTAMP:20260421T123438
CREATED:20191216T125956Z
LAST-MODIFIED:20191216T125956Z
UID:2017-1600819200-1600905599@www.paulparey.de
SUMMARY:FISCH & FANG 10/2020
DESCRIPTION:Ab heute ist die neue FISCH & FANG Ausgabe im Handel erhältlich!\n \nFISCH & FANG. Deutschlands erstes Anglermagazin. Immer faszinierend\, lebendig und praxisnah. Jetzt mit Angelfilmen auf PareyGo! \nAuch im Abo erhältlich! \nwww.fischundfang.de
URL:https://www.paulparey.de/termin/fisch-fang-10-2020/
CATEGORIES:EVT
ATTACH;FMTTYPE=image/jpeg:https://www.paulparey.de/wp-content/uploads/2018/09/fufevt.jpg
END:VEVENT
END:VCALENDAR